BEGIN:VCALENDAR
VERSION:2.0
PRODID:-//Market Harborough Orchestra - ECPv6.15.20//NONSGML v1.0//EN
CALSCALE:GREGORIAN
METHOD:PUBLISH
X-ORIGINAL-URL:https://mhorchestra.com
X-WR-CALDESC:Events for Market Harborough Orchestra
REFRESH-INTERVAL;VALUE=DURATION:PT1H
X-Robots-Tag:noindex
X-PUBLISHED-TTL:PT1H
BEGIN:VTIMEZONE
TZID:Europe/London
BEGIN:DAYLIGHT
TZOFFSETFROM:+0000
TZOFFSETTO:+0100
TZNAME:BST
DTSTART:20230326T010000
END:DAYLIGHT
BEGIN:STANDARD
TZOFFSETFROM:+0100
TZOFFSETTO:+0000
TZNAME:GMT
DTSTART:20231029T010000
END:STANDARD
BEGIN:DAYLIGHT
TZOFFSETFROM:+0000
TZOFFSETTO:+0100
TZNAME:BST
DTSTART:20240331T010000
END:DAYLIGHT
BEGIN:STANDARD
TZOFFSETFROM:+0100
TZOFFSETTO:+0000
TZNAME:GMT
DTSTART:20241027T010000
END:STANDARD
BEGIN:DAYLIGHT
TZOFFSETFROM:+0000
TZOFFSETTO:+0100
TZNAME:BST
DTSTART:20250330T010000
END:DAYLIGHT
BEGIN:STANDARD
TZOFFSETFROM:+0100
TZOFFSETTO:+0000
TZNAME:GMT
DTSTART:20251026T010000
END:STANDARD
END:VTIMEZONE
BEGIN:VEVENT
DTSTART;TZID=Europe/London:20240127T193000
DTEND;TZID=Europe/London:20240127T220000
DTSTAMP:20260424T004711
CREATED:20240209T194720Z
LAST-MODIFIED:20240211T235325Z
UID:199-1706383800-1706392800@mhorchestra.com
SUMMARY:MUSIC MEETS THE MOVIES
DESCRIPTION:MUSIC MEETS THE MOVIES \n\nModest Mussorgsky- Night on Bald Mountain\nAmilcare Ponchielli – Dance of the Hours from “La Gioconda”\nPietro Mascagni – Intermezzo from “Cavalleria rusticana”\nLudwig van Beethoven – Symphony no. 7 in A Major\, Op. 92\n\n 
URL:https://mhorchestra.com/concert/2024-music-meets-the-movies/
LOCATION:Market Harborough Methodist Church\, Northampton Road\, Market Harborough\, Leicestershire\, LE16 9HG\, United Kingdom
ATTACH;FMTTYPE=image/jpeg:https://mhorchestra.com/wp-content/uploads/2024/02/MHO-26.jpeg
END:VEVENT
END:VCALENDAR